BEGIN:VCALENDAR
VERSION:2.0
PRODID:-//Sabine Mändle - ECPv6.15.20//NONSGML v1.0//EN
CALSCALE:GREGORIAN
METHOD:PUBLISH
X-WR-CALNAME:Sabine Mändle
X-ORIGINAL-URL:https://sabine-maendle.de
X-WR-CALDESC:Veranstaltungen für Sabine Mändle
REFRESH-INTERVAL;VALUE=DURATION:PT1H
X-Robots-Tag:noindex
X-PUBLISHED-TTL:PT1H
BEGIN:VTIMEZONE
TZID:Europe/Berlin
BEGIN:DAYLIGHT
TZOFFSETFROM:+0100
TZOFFSETTO:+0200
TZNAME:CEST
DTSTART:20240331T010000
END:DAYLIGHT
BEGIN:STANDARD
TZOFFSETFROM:+0200
TZOFFSETTO:+0100
TZNAME:CET
DTSTART:20241027T010000
END:STANDARD
BEGIN:DAYLIGHT
TZOFFSETFROM:+0100
TZOFFSETTO:+0200
TZNAME:CEST
DTSTART:20250330T010000
END:DAYLIGHT
BEGIN:STANDARD
TZOFFSETFROM:+0200
TZOFFSETTO:+0100
TZNAME:CET
DTSTART:20251026T010000
END:STANDARD
BEGIN:DAYLIGHT
TZOFFSETFROM:+0100
TZOFFSETTO:+0200
TZNAME:CEST
DTSTART:20260329T010000
END:DAYLIGHT
BEGIN:STANDARD
TZOFFSETFROM:+0200
TZOFFSETTO:+0100
TZNAME:CET
DTSTART:20261025T010000
END:STANDARD
END:VTIMEZONE
BEGIN:VEVENT
DTSTART;TZID=Europe/Berlin:20250514T190000
DTEND;TZID=Europe/Berlin:20250514T210000
DTSTAMP:20260423T051113
CREATED:20250108T134235Z
LAST-MODIFIED:20250108T134235Z
UID:10000035-1747249200-1747256400@sabine-maendle.de
SUMMARY:WWW - Weiblichkeit\, Wechsel & Wandel
DESCRIPTION:Oder „Wundervolle weibliche Welt“? So könnte man den wunderbaren weiblichen Körper und alles\, was das Frau-Sein ausmacht\, auch benennen. Gerade in der Zeit\, in der sich Veränderungen ankündigen\, der weibliche Körper nach Aufmerksamkeit verlangt und gefühlt eine neue Lebensphase ansteht\, rücken Achtsamkeit\, Hinspüren aber auch Wissen in den Vordergrund. \nEs darf jetzt um Dich selbst gehen - nimm Dich wichtig und stelle Dich in Deinen ganz eigenen Lebensmittelpunkt. \nIch begleite Dich an fünf gemeinsamen Abenden als Auszeit von der Alltagsroutine\, damit Du Wichtiges und Wissenswertes über Dich und Deinen Körper in dieser besonderen Zeit kennenlernen kannst. Mit Übungen für Achtsamkeit und Hinspüren wird es Dir möglich sein\, Deinen eigenen Körper wahrzunehmen und noch mehr anzunehmen. Ein wertvoller Austausch untereinander und eine entspannte Atmosphäre zum Wohlfühlen schaffen Raum für Dein inneres Gleichgewicht. \n 
URL:https://sabine-maendle.de/termin/www-weiblichkeit-wechsel-wandel-7/
LOCATION:Praxis Dorfstr. 28\, 89358 Kammeltal-Egenhofen\, Dorfstr. 28\, Egenhofen\, Bayern\, 89358\, Deutschland
ATTACH;FMTTYPE=image/png:https://sabine-maendle.de/wp-content/uploads/2024/08/WWW-Weiblichkeit-e1724415117112.png
END:VEVENT
BEGIN:VEVENT
DTSTART;TZID=Europe/Berlin:20250525T093000
DTEND;TZID=Europe/Berlin:20250525T110000
DTSTAMP:20260423T051113
CREATED:20250108T140520Z
LAST-MODIFIED:20250108T141954Z
UID:10000040-1748165400-1748170800@sabine-maendle.de
SUMMARY:Sunday-Inspiration (Online-Workshop)
DESCRIPTION:Inspiration zuhause - Entdecke Dein Potential und entfalte Deine Persönlichkeit \nInteressante Themen aus den Bereichen Bewusstseins- und Persönlichkeitsentwicklung\, Spiritualität und Lebenskunst bereichern Deinen Sonntagvormittag. \nVon 9.30 Uhr bis 11 Uhr kannst Du Dich in Deiner Wohlfühlumgebung Zeit für Dich und diesem inspirierenden Thema nehmen: \nFrei sein | Wollen oder wirkliche Freiheit leben?\nWas steckt hinter der so viel beschriebenen Freiheit\, was verstehst Du darunter\, und passt der Gedanke "frei von allem sein wollen" überhaupt (für dich)? \nAusgleich: 35 €
URL:https://sabine-maendle.de/termin/sunday-inspiration-online-workshop-7/
LOCATION:Online Workshop
ATTACH;FMTTYPE=image/png:https://sabine-maendle.de/wp-content/uploads/2024/08/Sunday-Inspiration.png
END:VEVENT
BEGIN:VEVENT
DTSTART;TZID=Europe/Berlin:20250528T190000
DTEND;TZID=Europe/Berlin:20250528T210000
DTSTAMP:20260423T051113
CREATED:20250108T134303Z
LAST-MODIFIED:20250108T134303Z
UID:10000036-1748458800-1748466000@sabine-maendle.de
SUMMARY:WWW - Weiblichkeit\, Wechsel & Wandel
DESCRIPTION:Oder „Wundervolle weibliche Welt“? So könnte man den wunderbaren weiblichen Körper und alles\, was das Frau-Sein ausmacht\, auch benennen. Gerade in der Zeit\, in der sich Veränderungen ankündigen\, der weibliche Körper nach Aufmerksamkeit verlangt und gefühlt eine neue Lebensphase ansteht\, rücken Achtsamkeit\, Hinspüren aber auch Wissen in den Vordergrund. \nEs darf jetzt um Dich selbst gehen - nimm Dich wichtig und stelle Dich in Deinen ganz eigenen Lebensmittelpunkt. \nIch begleite Dich an fünf gemeinsamen Abenden als Auszeit von der Alltagsroutine\, damit Du Wichtiges und Wissenswertes über Dich und Deinen Körper in dieser besonderen Zeit kennenlernen kannst. Mit Übungen für Achtsamkeit und Hinspüren wird es Dir möglich sein\, Deinen eigenen Körper wahrzunehmen und noch mehr anzunehmen. Ein wertvoller Austausch untereinander und eine entspannte Atmosphäre zum Wohlfühlen schaffen Raum für Dein inneres Gleichgewicht. \n 
URL:https://sabine-maendle.de/termin/www-weiblichkeit-wechsel-wandel-8/
LOCATION:Praxis Dorfstr. 28\, 89358 Kammeltal-Egenhofen\, Dorfstr. 28\, Egenhofen\, Bayern\, 89358\, Deutschland
ATTACH;FMTTYPE=image/png:https://sabine-maendle.de/wp-content/uploads/2024/08/WWW-Weiblichkeit-e1724415117112.png
END:VEVENT
END:VCALENDAR