BEGIN:VCALENDAR
VERSION:2.0
PRODID:-//Sabine Mändle - ECPv6.15.20//NONSGML v1.0//EN
CALSCALE:GREGORIAN
METHOD:PUBLISH
X-ORIGINAL-URL:https://sabine-maendle.de
X-WR-CALDESC:Veranstaltungen für Sabine Mändle
REFRESH-INTERVAL;VALUE=DURATION:PT1H
X-Robots-Tag:noindex
X-PUBLISHED-TTL:PT1H
BEGIN:VTIMEZONE
TZID:Europe/Berlin
BEGIN:DAYLIGHT
TZOFFSETFROM:+0100
TZOFFSETTO:+0200
TZNAME:CEST
DTSTART:20250330T010000
END:DAYLIGHT
BEGIN:STANDARD
TZOFFSETFROM:+0200
TZOFFSETTO:+0100
TZNAME:CET
DTSTART:20251026T010000
END:STANDARD
BEGIN:DAYLIGHT
TZOFFSETFROM:+0100
TZOFFSETTO:+0200
TZNAME:CEST
DTSTART:20260329T010000
END:DAYLIGHT
BEGIN:STANDARD
TZOFFSETFROM:+0200
TZOFFSETTO:+0100
TZNAME:CET
DTSTART:20261025T010000
END:STANDARD
BEGIN:DAYLIGHT
TZOFFSETFROM:+0100
TZOFFSETTO:+0200
TZNAME:CEST
DTSTART:20270328T010000
END:DAYLIGHT
BEGIN:STANDARD
TZOFFSETFROM:+0200
TZOFFSETTO:+0100
TZNAME:CET
DTSTART:20271031T010000
END:STANDARD
END:VTIMEZONE
BEGIN:VEVENT
DTSTART;TZID=Europe/Berlin:20260312T190000
DTEND;TZID=Europe/Berlin:20260312T210000
DTSTAMP:20260420T173925
CREATED:20240812T120631Z
LAST-MODIFIED:20260304T200715Z
UID:10000028-1773342000-1773349200@sabine-maendle.de
SUMMARY:Basenfasten – Wenn Abnehmen der angenehme Nebeneffekt ist
DESCRIPTION:Du hast Lust auf…\n... Leckere Obst-\, Salat- und Gemüsegerichte\, die deinen Stoffwechsel ordentlich ankurbeln und zum Entgiften anregen?\n... Neue Energie\, Vitalität und Wohlfühlgewicht?\n... Zeit für Dich - für Lebensfreude und Begeisterung und einem Blick hinter die eigenen Kulissen? \nNeuer Kurs mit fünf begleiteten Treffen für Ernährung\, Bewegung und Entspannung \nBeginn ist am 12. März 2026 um 19 Uhr\nWeitere Treffen am 13.03. (15 Uhr - Outdoor) / 16.03. (19 Uhr) / 18.03. (19 Uhr) und 20.03.26 (19 Uhr)\nAusgleich: 149 € (incl. Unterlagen\, Programmen und Getränken)
URL:https://sabine-maendle.de/termin/basenfasten-wenn-abnehmen-der-angenehme-nebeneffekt-ist-5/
LOCATION:HERZ.RAUM 16 Private Praxis Sabine Mändle\, Tellerstraße 16\, Burgau\, 89331\, Deutschland
ATTACH;FMTTYPE=image/jpeg:https://sabine-maendle.de/wp-content/uploads/2020/01/Fotolia_74097592_L-e1578498996303.jpg
END:VEVENT
END:VCALENDAR